BEGIN:VCALENDAR
VERSION:2.0
PRODID:-//Cheshire Clay Studios - ECPv6.15.20//NONSGML v1.0//EN
CALSCALE:GREGORIAN
METHOD:PUBLISH
X-WR-CALNAME:Cheshire Clay Studios
X-ORIGINAL-URL:https://www.cheshireclay.com
X-WR-CALDESC:Events for Cheshire Clay Studios
REFRESH-INTERVAL;VALUE=DURATION:PT1H
X-Robots-Tag:noindex
X-PUBLISHED-TTL:PT1H
BEGIN:VTIMEZONE
TZID:Europe/London
BEGIN:DAYLIGHT
TZOFFSETFROM:+0000
TZOFFSETTO:+0100
TZNAME:BST
DTSTART:20240331T010000
END:DAYLIGHT
BEGIN:STANDARD
TZOFFSETFROM:+0100
TZOFFSETTO:+0000
TZNAME:GMT
DTSTART:20241027T010000
END:STANDARD
BEGIN:DAYLIGHT
TZOFFSETFROM:+0000
TZOFFSETTO:+0100
TZNAME:BST
DTSTART:20250330T010000
END:DAYLIGHT
BEGIN:STANDARD
TZOFFSETFROM:+0100
TZOFFSETTO:+0000
TZNAME:GMT
DTSTART:20251026T010000
END:STANDARD
BEGIN:DAYLIGHT
TZOFFSETFROM:+0000
TZOFFSETTO:+0100
TZNAME:BST
DTSTART:20260329T010000
END:DAYLIGHT
BEGIN:STANDARD
TZOFFSETFROM:+0100
TZOFFSETTO:+0000
TZNAME:GMT
DTSTART:20261025T010000
END:STANDARD
BEGIN:DAYLIGHT
TZOFFSETFROM:+0000
TZOFFSETTO:+0100
TZNAME:BST
DTSTART:20270328T010000
END:DAYLIGHT
BEGIN:STANDARD
TZOFFSETFROM:+0100
TZOFFSETTO:+0000
TZNAME:GMT
DTSTART:20271031T010000
END:STANDARD
END:VTIMEZONE
BEGIN:VEVENT
DTSTART;TZID=Europe/London:20260307T110000
DTEND;TZID=Europe/London:20260307T133000
DTSTAMP:20260421T192537
CREATED:20251125T123851Z
LAST-MODIFIED:20251125T123851Z
UID:3476-1772881200-1772890200@www.cheshireclay.com
SUMMARY:Calligraphy Workshop
DESCRIPTION:7th March 11.00am – 1.30pm \nJoin Mellor & Rose at Cheshire Clay Studio on our Modern Calligraphy Workshop on Saturday March 7th from 11am – 1:30pm! \nModern Calligraphy is fun to learn and relaxing to practice. Join us at Cheshire Clay Studio on our Modern Calligraphy Workshop with Spring theme this New Year and start your Calligraphy journey with this mindful\, creative pastime and art form. \nGuided by expert tutors; Lucy Mellor and Polly Mellor\, you will begin by covering the fundamentals of how to hold the dip pen\, learning the pressures and rhythms that give calligraphy its characteristic contrasting strokes before moving onto learning the upper and lower alphabet\, how to link letters\, first words and phrases. You will learn how to draw decorative illustrations and flourishes to complement your calligraphy lettering on stationery pieces. The second half of the workshop covers how to lay out greeting cards\, letter up and design a piece of wall art along with luxury stationery items. \n£69.00 per person
URL:https://www.cheshireclay.com/event/calligraphy-workshop/
LOCATION:Cheshire Clay Studios\, Lowes Farm\, Middlewich\, Cheshire\, CW10 9NG
CATEGORIES:Arts & Crafts,Mellor & Rose
ATTACH;FMTTYPE=image/jpeg:https://www.cheshireclay.com/wp-content/uploads/2025/11/Mellor-Rose-Cheshire-Clay-Studio-Modern-Calligraphy-Workshop-e1764073693308.jpeg
END:VEVENT
BEGIN:VEVENT
DTSTART;TZID=Europe/London:20260124T110000
DTEND;TZID=Europe/London:20260124T133000
DTSTAMP:20260421T192537
CREATED:20251125T123035Z
LAST-MODIFIED:20251125T123151Z
UID:3472-1769252400-1769261400@www.cheshireclay.com
SUMMARY:The Joys of Calligraphy in 2026!
DESCRIPTION:24th January 2026\nJoin Mellor & Rose at Cheshire Clay Studio on our Modern Calligraphy Workshop on Saturday January 24th from 11am – 1:30pm! \nModern Calligraphy is fun to learn and relaxing to practice. Join us at Cheshire Clay Studio on our Modern Calligraphy Workshop with Spring theme this New Year and start your Calligraphy journey with this mindful\, creative pastime and art form. \nGuided by expert tutors; Lucy Mellor and Polly Mellor\, you will begin by covering the fundamentals of how to hold the dip pen\, learning the pressures and rhythms that give calligraphy its characteristic contrasting strokes before moving onto learning the upper and lower alphabet\, how to link letters\, first words and phrases. You will learn how to draw decorative illustrations and flourishes to complement your calligraphy lettering on stationery pieces. The second half of the workshop covers how to lay out greeting cards\, letter up and design a piece of wall art along with luxury stationery items. \n£69.00 per person
URL:https://www.cheshireclay.com/event/the-joys-of-calligraphy-in-2026/
LOCATION:Cheshire Clay Studios\, Lowes Farm\, Middlewich\, Cheshire\, CW10 9NG
CATEGORIES:Arts & Crafts,Mellor & Rose
ATTACH;FMTTYPE=image/jpeg:https://www.cheshireclay.com/wp-content/uploads/2025/11/Mellor-Rose-Cheshire-Clay-Studio-Modern-Calligraphy-Workshop-e1764073693308.jpeg
END:VEVENT
BEGIN:VEVENT
DTSTART;TZID=Europe/London:20251129T110000
DTEND;TZID=Europe/London:20251129T133000
DTSTAMP:20260421T192537
CREATED:20251016T093646Z
LAST-MODIFIED:20251020T105634Z
UID:3373-1764414000-1764423000@www.cheshireclay.com
SUMMARY:Christmas Calligraphy Workshop with Mellor and Rose
DESCRIPTION:CHRISTMAS CALLIGRAPHY WORKSHOP\n£69\nJoin us on our special themed 2.5 hour Christmas Calligraphy Workshop filled with festive designs and hand lettering! By the end of this fully comprehensive Workshop you will be well on your way to lettering up your very own Gift Tags\, Christmas Cards + Envelopes along with some festive quotes for your home (or as a gift too!) \n£69 (same price as 2023) \nWHAT’S INCLUDED?\n• Personalised Calligraphy Box \n• Themed 2.5 hour workshop \n• Includes Full Starter Kit of dip pen + nib \n• Mellor & Rose Calligraphy Box \n• Festive Words + Phrases \n• Festive Design Layout templates \n• Banners + Ornaments (decorative illustrations) \n• Luxe Stationery Gift Bag \n• 2 Expert Tutors \n• Refreshments
URL:https://www.cheshireclay.com/event/christmas-calligraphy-workshop-with-mellor-and-rose/
LOCATION:Cheshire Clay Studios\, Lowes Farm\, Middlewich\, Cheshire\, CW10 9NG
CATEGORIES:Arts & Crafts,Mellor & Rose,Special Events
ATTACH;FMTTYPE=image/jpeg:https://www.cheshireclay.com/wp-content/uploads/2025/07/Christmas-Calligraphy-Workshop-Cheshire-Clay-Studios-Mellor-Rose.jpeg
END:VEVENT
BEGIN:VEVENT
DTSTART;TZID=Europe/London:20251025T110000
DTEND;TZID=Europe/London:20251025T133000
DTSTAMP:20260421T192537
CREATED:20250724T101414Z
LAST-MODIFIED:20251016T093216Z
UID:3238-1761390000-1761399000@www.cheshireclay.com
SUMMARY:Mellor and Rose Christmas Calligraphy workshop
DESCRIPTION:CHRISTMAS CALLIGRAPHY WORKSHOP\n£69\nJoin us on our special themed 2.5 hour Christmas Calligraphy Workshop filled with festive designs and hand lettering! By the end of this fully comprehensive Workshop you will be well on your way to lettering up your very own Gift Tags\, Christmas Cards + Envelopes along with some festive quotes for your home (or as a gift too!) \n£69 (same price as 2023) \nWHAT’S INCLUDED?\n• Personalised Calligraphy Box \n• Themed 2.5 hour workshop \n• Includes Full Starter Kit of dip pen + nib \n• Mellor & Rose Calligraphy Box \n• Festive Words + Phrases \n• Festive Design Layout templates \n• Banners + Ornaments (decorative illustrations) \n• Luxe Stationery Gift Bag \n• 2 Expert Tutors \n• Refreshments
URL:https://www.cheshireclay.com/event/mellor-and-rose-christmas-calligraphy-workshop/
LOCATION:Cheshire Clay Studios\, Lowes Farm\, Middlewich\, Cheshire\, CW10 9NG
CATEGORIES:Arts & Crafts,Mellor & Rose
ATTACH;FMTTYPE=image/jpeg:https://www.cheshireclay.com/wp-content/uploads/2025/07/Christmas-Calligraphy-Workshop-Cheshire-Clay-Studios-Mellor-Rose.jpeg
END:VEVENT
BEGIN:VEVENT
DTSTART;TZID=Europe/London:20250712T110000
DTEND;TZID=Europe/London:20250712T133000
DTSTAMP:20260421T192537
CREATED:20250623T161116Z
LAST-MODIFIED:20250623T162131Z
UID:3187-1752318000-1752327000@www.cheshireclay.com
SUMMARY:Modern Calligraphy Workshop - Mellor & Rose
DESCRIPTION:Join Mellor & Rose this Summer on our special Modern Calligraphy Workshop with our friends at Cheshire Clay Studios on July 12th\, suitable for complete Beginners and Intermediates! \nTHE WORKSHOP\nGuided by expert tutors; Beverly Mellor and Lucy Mellor\, we will begin by covering the core fundamentals of this beautiful and calming art form including how to hold a dip pen\, learning the pressures and rhythms which gives calligraphy those characteristic contrasting strokes before moving onto learning the upper and lower script alphabet\, how to link letters\, first words and phrases (all themed around the seasons!) \nWe’ll learn how to draw decorative illustrations and flourishes to complement our calligraphy and lettering up stationery pieces; cards and gift tags. The second half of the Workshop covers how to layout your Cards and Gift Tags\, letter up and design a piece of seasonally themed wall art along with luxury stationery items. The 2.5 hour workshop includes a fully comprehensive Calligraphy Box with Starter Kit\, Mellor & Rose Calligraphy Workbook\, Luxe Stationery items for your Calligraphy- yours to keep and continue your Calligraphy Journey.\nWe only use FSC Certified and PEFC Certified paper stock for all our Workshops. \n£69.00 per person \nABOUT MELLOR & ROSE\nWe’re Mellor & Rose\, a family of women lettering artists who are passionate about sharing the joys of Calligraphy to a wide audience – this being not only for its fabulous aesthetic but also for its much needed mindful and calming benefits. Made up of Beverley Mellor\, Polly Mellor and Lucy Mellor – a mother and 2 daughters\, founded in 2018 – we’re a multidisciplinary design business working from Manchester to London and we’re thrilled to work with brands and clients for Calligraphy and Handlettering services along with having the total joy of hosting our Modern Calligraphy Workshops\, Brush Lettering Workshops and Chalk Lettering Workshops at beautiful venues and spaces across the UK from right here in Lancashire to London\, Manchester\, Liverpool\, Cheshire\, Cumbria\, Yorkshire\, Leicestershire\, Cotswolds and Gloucestershire. Clients include Chanel\, Prada\, The White Company and BOOTHS Supermarkets. \nwww.mellorandrose.co.uk | @mellorandrose | mellorandrose@icloud.com \nWe look forward to welcoming you to the Workshop!
URL:https://www.cheshireclay.com/event/modern-calligraphy-workshop-mellor-rose/
LOCATION:Cheshire Clay Studios\, Lowes Farm\, Middlewich\, Cheshire\, CW10 9NG
CATEGORIES:Arts & Crafts,Mellor & Rose
ATTACH;FMTTYPE=image/jpeg:https://www.cheshireclay.com/wp-content/uploads/2025/06/thumbnail_Mellor-Rose-Cheshire-Clay-Studios-Modern-Calligraphy-Workshop.jpg
END:VEVENT
END:VCALENDAR